BEGIN:VCALENDAR
VERSION:2.0
PRODID:icalendar-ruby
CALSCALE:GREGORIAN
METHOD:PUBLISH
BEGIN:VEVENT
DTSTAMP:20260425T142757Z
UID:111-325163@gladbrookmethodist.tithelysetup5.com
DTSTART:20260428T000000Z
DTEND:20260428T013000Z
CLASS:PUBLIC
CREATED:20260331T140448
DESCRIPTION:
LAST-MODIFIED:20260331T140448
LOCATION:GMC Fellowship Hall
SUMMARY:Ad Council Meeting
URL;VALUE=URI:https://gladbrookmethodist.org/events/ad-council-meeting--111
 /2026-04-27
END:VEVENT
END:VCALENDAR
