BEGIN:VCALENDAR
VERSION:2.0
PRODID:icalendar-ruby
CALSCALE:GREGORIAN
METHOD:PUBLISH
BEGIN:VEVENT
DTSTAMP:20260425T122907Z
UID:105-325157@gladbrookmethodist.tithelysetup5.com
DTSTART:20260427T210000Z
DTEND:20260427T230000Z
CLASS:PUBLIC
CREATED:20260331T135621
DESCRIPTION:
LAST-MODIFIED:20260331T135621
LOCATION:GMC Basement
SUMMARY:Food Pantry Open
URL;VALUE=URI:https://gladbrookmethodist.org/events/food-pantry-open--105/2
 026-04-27
END:VEVENT
END:VCALENDAR
