BEGIN:VCALENDAR
VERSION:2.0
PRODID:icalendar-ruby
CALSCALE:GREGORIAN
METHOD:PUBLISH
BEGIN:VEVENT
DTSTAMP:20260422T143331Z
UID:109-325161@gladbrookmethodist.tithelysetup5.com
DTSTART:20260424T223000Z
DTEND:20260424T233000Z
CLASS:PUBLIC
CREATED:20260331T140300
DESCRIPTION:
LAST-MODIFIED:20260331T140300
LOCATION:GMC Fellowship Hall
SUMMARY:Gladbrook Community Meal
URL;VALUE=URI:https://gladbrookmethodist.org/events/gladbrook-community-mea
 l/2026-04-24
END:VEVENT
END:VCALENDAR
