BEGIN:VCALENDAR
VERSION:2.0
PRODID:icalendar-ruby
CALSCALE:GREGORIAN
METHOD:PUBLISH
BEGIN:VEVENT
DTSTAMP:20260422T161600Z
UID:110-325162@gladbrookmethodist.tithelysetup5.com
DTSTART:20260425T231500Z
DTEND:20260426T000000Z
CLASS:PUBLIC
CREATED:20260331T140357
DESCRIPTION:
LAST-MODIFIED:20260331T140357
LOCATION:Gladbrook Theater
SUMMARY:GMW Theater Volunteer
URL;VALUE=URI:https://gladbrookmethodist.org/events/gmw-theater-volunteer--
 110/2026-04-25
END:VEVENT
END:VCALENDAR
