BEGIN:VCALENDAR
VERSION:2.0
PRODID:icalendar-ruby
CALSCALE:GREGORIAN
METHOD:PUBLISH
BEGIN:VEVENT
DTSTAMP:20260420T122224Z
UID:108-325160@gladbrookmethodist.tithelysetup5.com
DTSTART:20260421T193000Z
DTEND:20260421T203000Z
CLASS:PUBLIC
CREATED:20260331T140128
DESCRIPTION:
LAST-MODIFIED:20260331T140128
LOCATION:GMC Fellowship Hall
SUMMARY:ISU Ext Words on Wellness
URL;VALUE=URI:https://gladbrookmethodist.org/events/isu-ext-words-on-wellne
 ss/2026-04-21
END:VEVENT
END:VCALENDAR
